BEGIN:VCALENDAR
VERSION:2.0
PRODID:-//wp-events-plugin.com//6.4.7.3//EN
BEGIN:VEVENT
UID:114@starrsville.church
DTSTART:20230426T190000Z
DTEND:20230426T200000Z
DTSTAMP:20230421T131538Z
URL:https://starrsville.church/events/taco-night-2/
SUMMARY:Taco Night
DESCRIPTION:Reservations only. Donations will be taken at the door.
END:VEVENT
END:VCALENDAR