BEGIN:VCALENDAR
VERSION:2.0
PRODID:-//wp-events-plugin.com//6.4.7.3//EN
BEGIN:VEVENT
UID:109@starrsville.church
DTSTART;TZID=America/New_York:20230806T110000
DTEND;TZID=America/New_York:20230806T120000
DTSTAMP:20230406T170228Z
URL:https://starrsville.church/events/sunday-worship-service-2023-08-06/
SUMMARY:Sunday Worship Service
DESCRIPTION:
ATTACH;FMTTYPE=image/jpeg:https://starrsville.church/wp-content/uploads/20
 22/07/072e985b-9bc9-4013-8831-00974e627aa0.png
END:VEVENT
BEGIN:VTIMEZONE
TZID:America/New_York
X-LIC-LOCATION:America/New_York
BEGIN:DAYLIGHT
DTSTART:20230312T030000
TZOFFSETFROM:-0500
TZOFFSETTO:-0400
TZNAME:EDT
END:DAYLIGHT
END:VTIMEZONE
END:VCALENDAR