BEGIN:VCALENDAR
VERSION:2.0
PRODID:-//wp-events-plugin.com//6.4.7.3//EN
BEGIN:VEVENT
UID:179@starrsville.church
DTSTART:20250406T110000Z
DTEND:20250406T120000Z
DTSTAMP:20241128T022534Z
URL:https://starrsville.church/events/morning-worship-2025-04-06/
SUMMARY:Morning Worship
DESCRIPTION:
END:VEVENT
END:VCALENDAR