BEGIN:VCALENDAR
VERSION:2.0
PRODID:-//wp-events-plugin.com//6.4.7.3//EN
BEGIN:VEVENT
UID:111@starrsville.church
DTSTART:20230416T083000Z
DTEND:20230416T093000Z
DTSTAMP:20230411T140811Z
URL:https://starrsville.church/events/mens-breakfast/
SUMMARY:Men's Breakfast
DESCRIPTION:
END:VEVENT
END:VCALENDAR