BEGIN:VCALENDAR
VERSION:2.0
PRODID:-//wp-events-plugin.com//6.4.7.3//EN
BEGIN:VEVENT
UID:110@starrsville.church
DTSTART:20230515T183000Z
DTEND:20230515T193000Z
DTSTAMP:20230407T210955Z
URL:https://starrsville.church/events/joy-group/
SUMMARY:JOY Group
DESCRIPTION:
END:VEVENT
END:VCALENDAR