BEGIN:VCALENDAR
VERSION:2.0
PRODID:-//wp-events-plugin.com//6.4.7.3//EN
BEGIN:VEVENT
UID:122@starrsville.church
DTSTART:20240205T183000Z
DTEND:20240205T193000Z
DTSTAMP:20230628T174738Z
URL:https://starrsville.church/events/joy-group-8/
SUMMARY:Joy Group
DESCRIPTION:
END:VEVENT
END:VCALENDAR