BEGIN:VCALENDAR
VERSION:2.0
PRODID:-//wp-events-plugin.com//6.4.7.3//EN
BEGIN:VEVENT
UID:121@starrsville.church
DTSTART:20240108T183000Z
DTEND:20240108T193000Z
DTSTAMP:20230628T174648Z
URL:https://starrsville.church/events/joy-group-7/
SUMMARY:Joy Group
DESCRIPTION:
END:VEVENT
END:VCALENDAR