BEGIN:VCALENDAR
VERSION:2.0
PRODID:-//wp-events-plugin.com//6.4.7.3//EN
BEGIN:VEVENT
UID:120@starrsville.church
DTSTART:20231204T183000Z
DTEND:20231204T193000Z
DTSTAMP:20230628T174128Z
URL:https://starrsville.church/events/joy-group-6/
SUMMARY:Joy Group
DESCRIPTION:Christmas party! Bring a snack and a gift for our White Elephan
 t game.
END:VEVENT
END:VCALENDAR