BEGIN:VCALENDAR
VERSION:2.0
PRODID:-//wp-events-plugin.com//6.4.7.3//EN
BEGIN:VEVENT
UID:119@starrsville.church
DTSTART:20231118T110000Z
DTEND:20231118T140000Z
DTSTAMP:20230628T173932Z
URL:https://starrsville.church/events/joy-group-5/
SUMMARY:Joy Group
DESCRIPTION:Christmas craft day! We will go out to lunch\, too!
END:VEVENT
END:VCALENDAR