BEGIN:VCALENDAR
VERSION:2.0
PRODID:-//wp-events-plugin.com//6.4.7.3//EN
BEGIN:VEVENT
UID:118@starrsville.church
DTSTART:20231002T183000Z
DTEND:20231002T193000Z
DTSTAMP:20230628T173801Z
URL:https://starrsville.church/events/joy-group-4/
SUMMARY:Joy Group
DESCRIPTION:Patti Dolan will lead us!
END:VEVENT
END:VCALENDAR