BEGIN:VCALENDAR
VERSION:2.0
PRODID:-//wp-events-plugin.com//6.4.7.3//EN
BEGIN:VEVENT
UID:117@starrsville.church
DTSTART:20230911T183000Z
DTEND:20230911T193000Z
DTSTAMP:20230628T173648Z
URL:https://starrsville.church/events/joy-group-3/
SUMMARY:Joy Group
DESCRIPTION:Frankie Johnson will lead us!
END:VEVENT
END:VCALENDAR