BEGIN:VCALENDAR
VERSION:2.0
PRODID:-//wp-events-plugin.com//6.4.7.3//EN
BEGIN:VEVENT
UID:116@starrsville.church
DTSTART:20230807T183000Z
DTEND:20230807T193000Z
DTSTAMP:20230628T173252Z
URL:https://starrsville.church/events/joy-group-2/
SUMMARY:Joy Group
DESCRIPTION:
END:VEVENT
END:VCALENDAR